BEGIN:VCALENDAR
VERSION:2.0
PRODID:-//Anxiety Practitioners Network - ECPv4.9.10//NONSGML v1.0//EN
CALSCALE:GREGORIAN
METHOD:PUBLISH
X-WR-CALNAME:Anxiety Practitioners Network
X-ORIGINAL-URL:https://apnetwork.org.au
X-WR-CALDESC:Events for Anxiety Practitioners Network
BEGIN:VTIMEZONE
TZID:Australia/Sydney
BEGIN:STANDARD
TZOFFSETFROM:+1100
TZOFFSETTO:+1000
TZNAME:AEST
DTSTART:20080405T160000
END:STANDARD
BEGIN:DAYLIGHT
TZOFFSETFROM:+1000
TZOFFSETTO:+1100
TZNAME:AEDT
DTSTART:20081004T160000
END:DAYLIGHT
END:VTIMEZONE
BEGIN:VEVENT
DTSTART;TZID=Australia/Sydney:20080905T100000
DTEND;TZID=Australia/Sydney:20080905T130000
DTSTAMP:20200302T134515
CREATED:20150930T115913Z
LAST-MODIFIED:20150930T115913Z
UID:309-1220608800-1220619600@apnetwork.org.au
SUMMARY:Sleep in Adults – How to Work It
DESCRIPTION:Title: Sleep in Adults – How to Work It \nPresenter: Michael Gradisar\, Flinders University\, School of Psychology\, Adelaide\, South Australia. \nAbout this seminar: Sleep disorders are amongst the most common mental disorders in our community\, especially insomnia. Insomnia consists of various subtypes\, including sleep-onset\, sleep-maintenance (or both of the above)\, or early morning awakening. Insomnia is also highly co-morbid with a range of medical conditions and mental disorders\, including anxiety disorders. This seminar will take the broad research area of ‘sleep’ and attempt to de-mystify and simplify it for the practising clinician. Case studies and a Q & A session will be used to help clinicians learn ‘how to work sleep’. \nAbout the presenter: Michael is a Senior Lecturer and Clinical Psychologist at Flinders University’s School of Psychology in Adelaide\, South Australia. Through his clinical work at the Adelaide Institute for Sleep Health and the Flinders University Child & Adolescent Sleep Clinic\, as well as his various treatment outcome studies\, Michael has assessed and treated the sleep disorders of hundreds of people across the entire age range (6 months to 90+ years). Michael will focus this seminar on adult sleep\, but will also welcome questions related to the younger generation. \n
URL:https://apnetwork.org.au/event/sleep-in-adults-how-to-work-it/
LOCATION:Theatre 2\, Education Block – Westmead Hospital\, corner Hawkesbury & Darcy Rds\, Westmead\, NSW\, 2145\, Australia
END:VEVENT
END:VCALENDAR