BEGIN:VCALENDAR
VERSION:2.0
PRODID:-//Anxiety Practitioners Network - ECPv4.9.10//NONSGML v1.0//EN
CALSCALE:GREGORIAN
METHOD:PUBLISH
X-WR-CALNAME:Anxiety Practitioners Network
X-ORIGINAL-URL:https://apnetwork.org.au
X-WR-CALDESC:Events for Anxiety Practitioners Network
BEGIN:VTIMEZONE
TZID:Australia/Sydney
BEGIN:STANDARD
TZOFFSETFROM:+1100
TZOFFSETTO:+1000
TZNAME:AEST
DTSTART:20150404T160000
END:STANDARD
BEGIN:DAYLIGHT
TZOFFSETFROM:+1000
TZOFFSETTO:+1100
TZNAME:AEDT
DTSTART:20151003T160000
END:DAYLIGHT
END:VTIMEZONE
BEGIN:VEVENT
DTSTART;TZID=Australia/Sydney:20150501T100000
DTEND;TZID=Australia/Sydney:20150501T130000
DTSTAMP:20200302T135835
CREATED:20150917T102938Z
LAST-MODIFIED:20150930T082924Z
UID:135-1430474400-1430485200@apnetwork.org.au
SUMMARY:Clinical Focus Seminar - Treating Psycho-Physiological Dizziness and Somatisation: A CBT Approach
DESCRIPTION:Title: Treating Psycho-Physiological Dizziness and Somatisation: A CBT Approach \nPresenter: Dr Sarah Edelman \nRegistration: http://www.trybooking.com/HHBW \n
URL:https://apnetwork.org.au/event/clinical-focus-seminar-3/
LOCATION:CRUfAD Lecture Theatre\, St Vincents Hospital\, St Vincent's Hospital\, Burton St \, Darlinghurst\, NSW\, 2010\, Australia
ORGANIZER;CN="Brian%20O%27Grady":MAILTO:brian.ogrady@mq.edu.au
END:VEVENT
END:VCALENDAR