BEGIN:VCALENDAR
VERSION:2.0
PRODID:-//Anxiety Practitioners Network - ECPv4.9.10//NONSGML v1.0//EN
CALSCALE:GREGORIAN
METHOD:PUBLISH
X-WR-CALNAME:Anxiety Practitioners Network
X-ORIGINAL-URL:https://apnetwork.org.au
X-WR-CALDESC:Events for Anxiety Practitioners Network
BEGIN:VTIMEZONE
TZID:Australia/Sydney
BEGIN:STANDARD
TZOFFSETFROM:+1100
TZOFFSETTO:+1000
TZNAME:AEST
DTSTART:20100403T160000
END:STANDARD
BEGIN:DAYLIGHT
TZOFFSETFROM:+1000
TZOFFSETTO:+1100
TZNAME:AEDT
DTSTART:20101002T160000
END:DAYLIGHT
END:VTIMEZONE
BEGIN:VEVENT
DTSTART;TZID=Australia/Sydney:20100805T070000
DTEND;TZID=Australia/Sydney:20100805T210000
DTSTAMP:20200302T134149
CREATED:20150930T113420Z
LAST-MODIFIED:20150930T113420Z
UID:297-1280991600-1281042000@apnetwork.org.au
SUMMARY:Clinical Case Presentation
DESCRIPTION:Presenter: Associate Professor Rocco Crino \n
URL:https://apnetwork.org.au/event/clinical-case-presentation/
LOCATION:Roxbury Hotel\, 180/182 St Johns Rd\, Glebe\, NSW\, 2037\, Australia
END:VEVENT
END:VCALENDAR